BEGIN:VCALENDAR
VERSION:2.0
PRODID:-//New Mexico Association for Infant Mental Health - ECPv6.15.11//NONSGML v1.0//EN
CALSCALE:GREGORIAN
METHOD:PUBLISH
X-WR-CALNAME:New Mexico Association for Infant Mental Health
X-ORIGINAL-URL:https://www.nmaimh.org
X-WR-CALDESC:Events for New Mexico Association for Infant Mental Health
REFRESH-INTERVAL;VALUE=DURATION:PT1H
X-Robots-Tag:noindex
X-PUBLISHED-TTL:PT1H
BEGIN:VTIMEZONE
TZID:America/Denver
BEGIN:DAYLIGHT
TZOFFSETFROM:-0700
TZOFFSETTO:-0600
TZNAME:MDT
DTSTART:20240310T090000
END:DAYLIGHT
BEGIN:STANDARD
TZOFFSETFROM:-0600
TZOFFSETTO:-0700
TZNAME:MST
DTSTART:20241103T080000
END:STANDARD
BEGIN:DAYLIGHT
TZOFFSETFROM:-0700
TZOFFSETTO:-0600
TZNAME:MDT
DTSTART:20250309T090000
END:DAYLIGHT
BEGIN:STANDARD
TZOFFSETFROM:-0600
TZOFFSETTO:-0700
TZNAME:MST
DTSTART:20251102T080000
END:STANDARD
BEGIN:DAYLIGHT
TZOFFSETFROM:-0700
TZOFFSETTO:-0600
TZNAME:MDT
DTSTART:20260308T090000
END:DAYLIGHT
BEGIN:STANDARD
TZOFFSETFROM:-0600
TZOFFSETTO:-0700
TZNAME:MST
DTSTART:20261101T080000
END:STANDARD
END:VTIMEZONE
BEGIN:VTIMEZONE
TZID:America/Denver
BEGIN:DAYLIGHT
TZOFFSETFROM:-0700
TZOFFSETTO:-0600
TZNAME:MDT
DTSTART:20240310T090000
END:DAYLIGHT
BEGIN:STANDARD
TZOFFSETFROM:-0600
TZOFFSETTO:-0700
TZNAME:MST
DTSTART:20241103T080000
END:STANDARD
BEGIN:DAYLIGHT
TZOFFSETFROM:-0700
TZOFFSETTO:-0600
TZNAME:MDT
DTSTART:20250309T090000
END:DAYLIGHT
BEGIN:STANDARD
TZOFFSETFROM:-0600
TZOFFSETTO:-0700
TZNAME:MST
DTSTART:20251102T080000
END:STANDARD
BEGIN:DAYLIGHT
TZOFFSETFROM:-0700
TZOFFSETTO:-0600
TZNAME:MDT
DTSTART:20260308T090000
END:DAYLIGHT
BEGIN:STANDARD
TZOFFSETFROM:-0600
TZOFFSETTO:-0700
TZNAME:MST
DTSTART:20261101T080000
END:STANDARD
END:VTIMEZONE
BEGIN:VEVENT
DTSTART;TZID=America/Denver:20251014T073000
DTEND;TZID=America/Denver:20251014T083000
DTSTAMP:20260421T111249
CREATED:20250925T161845Z
LAST-MODIFIED:20250925T161845Z
UID:2311-1760427000-1760430600@www.nmaimh.org
SUMMARY:Endorsement Office Hours
DESCRIPTION:
URL:https://www.nmaimh.org/event/endorsement-office-hours-38/
LOCATION:Zoom
END:VEVENT
BEGIN:VEVENT
DTSTART;TZID=America/Denver:20251014T090000
DTEND;TZID=America/Denver:20251014T094500
DTSTAMP:20260421T111249
CREATED:20250925T162822Z
LAST-MODIFIED:20250925T162822Z
UID:2338-1760432400-1760435100@www.nmaimh.org
SUMMARY:ANNUAL ASSOCIATION FEE Q&A
DESCRIPTION:
URL:https://www.nmaimh.org/event/annual-association-fee-qa/
LOCATION:Zoom
END:VEVENT
BEGIN:VEVENT
DTSTART;TZID=America/Denver:20251014T120000
DTEND;TZID=America/Denver:20251014T130000
DTSTAMP:20260421T111249
CREATED:20250925T162401Z
LAST-MODIFIED:20251014T001021Z
UID:2333-1760443200-1760446800@www.nmaimh.org
SUMMARY:CANCELLED - NMAIMH Spotlight - Cultural Humility - A Life Long Journey
DESCRIPTION:
URL:https://www.nmaimh.org/event/nmaimh-spotlight-cultural-humility-a-life-long-journey/
LOCATION:Zoom
END:VEVENT
END:VCALENDAR