BEGIN:VCALENDAR
VERSION:2.0
PRODID:-//New Mexico Association for Infant Mental Health - ECPv6.15.11//NONSGML v1.0//EN
CALSCALE:GREGORIAN
METHOD:PUBLISH
X-ORIGINAL-URL:https://www.nmaimh.org
X-WR-CALDESC:Events for New Mexico Association for Infant Mental Health
REFRESH-INTERVAL;VALUE=DURATION:PT1H
X-Robots-Tag:noindex
X-PUBLISHED-TTL:PT1H
BEGIN:VTIMEZONE
TZID:America/Denver
BEGIN:DAYLIGHT
TZOFFSETFROM:-0700
TZOFFSETTO:-0600
TZNAME:MDT
DTSTART:20240310T090000
END:DAYLIGHT
BEGIN:STANDARD
TZOFFSETFROM:-0600
TZOFFSETTO:-0700
TZNAME:MST
DTSTART:20241103T080000
END:STANDARD
BEGIN:DAYLIGHT
TZOFFSETFROM:-0700
TZOFFSETTO:-0600
TZNAME:MDT
DTSTART:20250309T090000
END:DAYLIGHT
BEGIN:STANDARD
TZOFFSETFROM:-0600
TZOFFSETTO:-0700
TZNAME:MST
DTSTART:20251102T080000
END:STANDARD
BEGIN:DAYLIGHT
TZOFFSETFROM:-0700
TZOFFSETTO:-0600
TZNAME:MDT
DTSTART:20260308T090000
END:DAYLIGHT
BEGIN:STANDARD
TZOFFSETFROM:-0600
TZOFFSETTO:-0700
TZNAME:MST
DTSTART:20261101T080000
END:STANDARD
END:VTIMEZONE
BEGIN:VTIMEZONE
TZID:America/Denver
BEGIN:DAYLIGHT
TZOFFSETFROM:-0700
TZOFFSETTO:-0600
TZNAME:MDT
DTSTART:20240310T090000
END:DAYLIGHT
BEGIN:STANDARD
TZOFFSETFROM:-0600
TZOFFSETTO:-0700
TZNAME:MST
DTSTART:20241103T080000
END:STANDARD
BEGIN:DAYLIGHT
TZOFFSETFROM:-0700
TZOFFSETTO:-0600
TZNAME:MDT
DTSTART:20250309T090000
END:DAYLIGHT
BEGIN:STANDARD
TZOFFSETFROM:-0600
TZOFFSETTO:-0700
TZNAME:MST
DTSTART:20251102T080000
END:STANDARD
BEGIN:DAYLIGHT
TZOFFSETFROM:-0700
TZOFFSETTO:-0600
TZNAME:MDT
DTSTART:20260308T090000
END:DAYLIGHT
BEGIN:STANDARD
TZOFFSETFROM:-0600
TZOFFSETTO:-0700
TZNAME:MST
DTSTART:20261101T080000
END:STANDARD
END:VTIMEZONE
BEGIN:VEVENT
DTSTART;TZID=America/Denver:20251104T120000
DTEND;TZID=America/Denver:20251104T124500
DTSTAMP:20260421T074609
CREATED:20250925T162911Z
LAST-MODIFIED:20250925T162911Z
UID:2340-1762257600-1762260300@www.nmaimh.org
SUMMARY:ANNUAL ASSOCIATION FEE Q&A
DESCRIPTION:
URL:https://www.nmaimh.org/event/annual-association-fee-qa-2/
LOCATION:Zoom
END:VEVENT
BEGIN:VEVENT
DTSTART;TZID=America/Denver:20251111T073000
DTEND;TZID=America/Denver:20251111T083000
DTSTAMP:20260421T074609
CREATED:20250925T161941Z
LAST-MODIFIED:20250925T161955Z
UID:2317-1762846200-1762849800@www.nmaimh.org
SUMMARY:Endorsement Office Hours
DESCRIPTION:
URL:https://www.nmaimh.org/event/endorsement-office-hours-41/
LOCATION:Zoom
END:VEVENT
BEGIN:VEVENT
DTSTART;TZID=America/Denver:20251118T073000
DTEND;TZID=America/Denver:20251118T083000
DTSTAMP:20260421T074609
CREATED:20250925T162017Z
LAST-MODIFIED:20250925T162017Z
UID:2319-1763451000-1763454600@www.nmaimh.org
SUMMARY:Endorsement Office Hours
DESCRIPTION:
URL:https://www.nmaimh.org/event/endorsement-office-hours-42/
LOCATION:Zoom
END:VEVENT
BEGIN:VEVENT
DTSTART;TZID=America/Denver:20251125T073000
DTEND;TZID=America/Denver:20251125T083000
DTSTAMP:20260421T074609
CREATED:20250925T162036Z
LAST-MODIFIED:20250925T162036Z
UID:2321-1764055800-1764059400@www.nmaimh.org
SUMMARY:Endorsement Office Hours
DESCRIPTION:
URL:https://www.nmaimh.org/event/endorsement-office-hours-43/
LOCATION:Zoom
END:VEVENT
BEGIN:VEVENT
DTSTART;TZID=America/Denver:20251126T120000
DTEND;TZID=America/Denver:20251126T130000
DTSTAMP:20260421T074609
CREATED:20251117T162443Z
LAST-MODIFIED:20251117T162443Z
UID:2381-1764158400-1764162000@www.nmaimh.org
SUMMARY:NMAIMH Spotlight - How To Be The Hands That Hold While Holding So Much
DESCRIPTION:
URL:https://www.nmaimh.org/event/nmaimh-spotlight-how-to-be-the-hands-that-hold-while-holding-so-much/
LOCATION:Zoom
END:VEVENT
END:VCALENDAR